BEGIN:VCALENDAR
VERSION:2.0
PRODID:-//jEvents 2.0 for Joomla//EN
CALSCALE:GREGORIAN
METHOD:PUBLISH
BEGIN:VTIMEZONE
TZID:Europe/Paris
BEGIN:STANDARD
DTSTART:20151025T020000
RDATE:20160327T030000
TZOFFSETFROM:+0200
TZOFFSETTO:+0100
TZNAME:Europe/Paris CET
END:STANDARD
BEGIN:STANDARD
DTSTART:20161030T020000
RDATE:20170326T030000
TZOFFSETFROM:+0200
TZOFFSETTO:+0100
TZNAME:Europe/Paris CET
END:STANDARD
BEGIN:STANDARD
DTSTART:20171029T020000
RDATE:20180325T030000
TZOFFSETFROM:+0200
TZOFFSETTO:+0100
TZNAME:Europe/Paris CET
END:STANDARD
BEGIN:STANDARD
DTSTART:20181028T020000
RDATE:20190331T030000
TZOFFSETFROM:+0200
TZOFFSETTO:+0100
TZNAME:Europe/Paris CET
END:STANDARD
BEGIN:STANDARD
DTSTART:20191027T020000
RDATE:20200329T030000
TZOFFSETFROM:+0200
TZOFFSETTO:+0100
TZNAME:Europe/Paris CET
END:STANDARD
BEGIN:STANDARD
DTSTART:20201025T020000
RDATE:20210328T030000
TZOFFSETFROM:+0200
TZOFFSETTO:+0100
TZNAME:Europe/Paris CET
END:STANDARD
BEGIN:DAYLIGHT
DTSTART:20150922T000000
RDATE:20151025T020000
TZOFFSETFROM:+0100
TZOFFSETTO:+0200
TZNAME:Europe/Paris CEST
END:DAYLIGHT
BEGIN:DAYLIGHT
DTSTART:20160327T030000
RDATE:20161030T020000
TZOFFSETFROM:+0100
TZOFFSETTO:+0200
TZNAME:Europe/Paris CEST
END:DAYLIGHT
BEGIN:DAYLIGHT
DTSTART:20170326T030000
RDATE:20171029T020000
TZOFFSETFROM:+0100
TZOFFSETTO:+0200
TZNAME:Europe/Paris CEST
END:DAYLIGHT
BEGIN:DAYLIGHT
DTSTART:20180325T030000
RDATE:20181028T020000
TZOFFSETFROM:+0100
TZOFFSETTO:+0200
TZNAME:Europe/Paris CEST
END:DAYLIGHT
BEGIN:DAYLIGHT
DTSTART:20190331T030000
RDATE:20191027T020000
TZOFFSETFROM:+0100
TZOFFSETTO:+0200
TZNAME:Europe/Paris CEST
END:DAYLIGHT
BEGIN:DAYLIGHT
DTSTART:20200329T030000
RDATE:20201025T020000
TZOFFSETFROM:+0100
TZOFFSETTO:+0200
TZNAME:Europe/Paris CEST
END:DAYLIGHT
END:VTIMEZONE
BEGIN:VEVENT
UID:b8cafb4dff42073afbe729eca96140b6
CATEGORIES:Evénements
SUMMARY:Challenge EUROFLY
LOCATION:Aérodrome
DESCRIPTION;ENCODING=QUOTED-PRINTABLE:<p>Le Challenge EUROFLY aura lieu sur l'aérodrome du 22 au 25 septembre 201
 6.</p><p>Cet évènement rassemblera 12 nations dont 9 européennes, pour envi
 ron 200 participants.<br />34 équipes se mesureront au cours d'une compétit
 ion de parachutisme en tandem.<br />Des démonstrations de sauts entre valid
 es et handicapés seront réalisés, en présence des équipes de France champio
 nnes du monde.<br />Des baptêmes en parachute tandem, en ascensionnel terre
 stre et en soufflerie seront proposés à des personnes handicapées.<br />Des
  jeunes des quartiers de Lille seront accueillis afin de faire des baptêmes
 , et partager cette expérience avec des personnes handicapées.</p><p>Au cou
 rs des journées du vendredi et samedi, un public nombreux est attendu sur l
 a zone (aérodrome de Lille Bondues) face à des écrans qui retransmettront l
 es diverses activités.</p>
DTSTAMP:20260421T103204Z
DTSTART;TZID=Europe/Paris;VALUE=DATE:20160922
DTEND;TZID=Europe/Paris;VALUE=DATE:20160926
SEQUENCE:0
TRANSP:OPAQUE
END:VEVENT
END:VCALENDAR